BEGIN:VCALENDAR
VERSION:2.0
PRODID:-//Forgotten Children Ministries - ECPv6.15.20//NONSGML v1.0//EN
CALSCALE:GREGORIAN
METHOD:PUBLISH
X-WR-CALNAME:Forgotten Children Ministries
X-ORIGINAL-URL:https://fcmhonduras.org
X-WR-CALDESC:Events for Forgotten Children Ministries
REFRESH-INTERVAL;VALUE=DURATION:PT1H
X-Robots-Tag:noindex
X-PUBLISHED-TTL:PT1H
BEGIN:VTIMEZONE
TZID:America/Chicago
BEGIN:DAYLIGHT
TZOFFSETFROM:-0600
TZOFFSETTO:-0500
TZNAME:CDT
DTSTART:20250309T080000
END:DAYLIGHT
BEGIN:STANDARD
TZOFFSETFROM:-0500
TZOFFSETTO:-0600
TZNAME:CST
DTSTART:20251102T070000
END:STANDARD
BEGIN:DAYLIGHT
TZOFFSETFROM:-0600
TZOFFSETTO:-0500
TZNAME:CDT
DTSTART:20260308T080000
END:DAYLIGHT
BEGIN:STANDARD
TZOFFSETFROM:-0500
TZOFFSETTO:-0600
TZNAME:CST
DTSTART:20261101T070000
END:STANDARD
BEGIN:DAYLIGHT
TZOFFSETFROM:-0600
TZOFFSETTO:-0500
TZNAME:CDT
DTSTART:20270314T080000
END:DAYLIGHT
BEGIN:STANDARD
TZOFFSETFROM:-0500
TZOFFSETTO:-0600
TZNAME:CST
DTSTART:20271107T070000
END:STANDARD
END:VTIMEZONE
BEGIN:VEVENT
DTSTART;TZID=America/Chicago:20260925T080000
DTEND;TZID=America/Chicago:20261001T170000
DTSTAMP:20260424T223535
CREATED:20260323T181029Z
LAST-MODIFIED:20260323T181044Z
UID:31456-1790323200-1790874000@fcmhonduras.org
SUMMARY:2026 Hickory Grove BC Team
DESCRIPTION:Team Leader:  Randy Scribner \nCost: 875
URL:https://fcmhonduras.org/event/2026-hickory-grove-bc-team/
END:VEVENT
BEGIN:VEVENT
DTSTART;TZID=America/Chicago:20261002T080000
DTEND;TZID=America/Chicago:20261008T170000
DTSTAMP:20260424T223535
CREATED:20260323T173645Z
LAST-MODIFIED:20260323T173645Z
UID:31435-1790928000-1791478800@fcmhonduras.org
SUMMARY:2026 Alpha Baptist Team
DESCRIPTION:Team Leader:  Gregory Ernsberg \nCost: $875
URL:https://fcmhonduras.org/event/2026-alpha-baptist-team/
END:VEVENT
BEGIN:VEVENT
DTSTART;TZID=America/Chicago:20261008T080000
DTEND;TZID=America/Chicago:20261014T170000
DTSTAMP:20260424T223535
CREATED:20260323T174015Z
LAST-MODIFIED:20260323T174016Z
UID:31442-1791446400-1791997200@fcmhonduras.org
SUMMARY:2026 Ms. Revival Team
DESCRIPTION:Team Leader:  Wayne Hudson \nCost: $875
URL:https://fcmhonduras.org/event/2026-ms-revival-team/
END:VEVENT
BEGIN:VEVENT
DTSTART;TZID=America/Chicago:20261016T080000
DTEND;TZID=America/Chicago:20261022T170000
DTSTAMP:20260424T223535
CREATED:20260408T173349Z
LAST-MODIFIED:20260408T173350Z
UID:31474-1792137600-1792688400@fcmhonduras.org
SUMMARY:2026 Birmingham Next Steps Team
DESCRIPTION:Team Leader:  Steve and Claire McPheeters \nCost: 875
URL:https://fcmhonduras.org/event/2026-birmingham-next-steps-team/
END:VEVENT
BEGIN:VEVENT
DTSTART;TZID=America/Chicago:20261107T080000
DTEND;TZID=America/Chicago:20261112T170000
DTSTAMP:20260424T223535
CREATED:20251203T211021Z
LAST-MODIFIED:20260323T172345Z
UID:31405-1794038400-1794502800@fcmhonduras.org
SUMMARY:2026 Medical Team
DESCRIPTION:Team Leader: Brent Barranco\, Ashley & Kurt Senn \nCost: $875
URL:https://fcmhonduras.org/event/2026-medical-team/
END:VEVENT
BEGIN:VEVENT
DTSTART;TZID=America/Chicago:20261213T080000
DTEND;TZID=America/Chicago:20261217T170000
DTSTAMP:20260424T223535
CREATED:20260323T174618Z
LAST-MODIFIED:20260323T174618Z
UID:31451-1797148800-1797526800@fcmhonduras.org
SUMMARY:2026 Christmas Team
DESCRIPTION:Team Leader:  Stan Nowell \nCost: $775
URL:https://fcmhonduras.org/event/2026-christmas-team/
END:VEVENT
END:VCALENDAR