BEGIN:VCALENDAR
VERSION:2.0
PRODID:-//Forgotten Children Ministries - ECPv6.15.20//NONSGML v1.0//EN
CALSCALE:GREGORIAN
METHOD:PUBLISH
X-ORIGINAL-URL:https://fcmhonduras.org
X-WR-CALDESC:Events for Forgotten Children Ministries
REFRESH-INTERVAL;VALUE=DURATION:PT1H
X-Robots-Tag:noindex
X-PUBLISHED-TTL:PT1H
BEGIN:VTIMEZONE
TZID:America/Chicago
BEGIN:DAYLIGHT
TZOFFSETFROM:-0600
TZOFFSETTO:-0500
TZNAME:CDT
DTSTART:20240310T080000
END:DAYLIGHT
BEGIN:STANDARD
TZOFFSETFROM:-0500
TZOFFSETTO:-0600
TZNAME:CST
DTSTART:20241103T070000
END:STANDARD
BEGIN:DAYLIGHT
TZOFFSETFROM:-0600
TZOFFSETTO:-0500
TZNAME:CDT
DTSTART:20250309T080000
END:DAYLIGHT
BEGIN:STANDARD
TZOFFSETFROM:-0500
TZOFFSETTO:-0600
TZNAME:CST
DTSTART:20251102T070000
END:STANDARD
BEGIN:DAYLIGHT
TZOFFSETFROM:-0600
TZOFFSETTO:-0500
TZNAME:CDT
DTSTART:20260308T080000
END:DAYLIGHT
BEGIN:STANDARD
TZOFFSETFROM:-0500
TZOFFSETTO:-0600
TZNAME:CST
DTSTART:20261101T070000
END:STANDARD
BEGIN:DAYLIGHT
TZOFFSETFROM:-0600
TZOFFSETTO:-0500
TZNAME:CDT
DTSTART:20270314T080000
END:DAYLIGHT
BEGIN:STANDARD
TZOFFSETFROM:-0500
TZOFFSETTO:-0600
TZNAME:CST
DTSTART:20271107T070000
END:STANDARD
END:VTIMEZONE
BEGIN:VEVENT
DTSTART;TZID=America/Chicago:20250926T080000
DTEND;TZID=America/Chicago:20251002T170000
DTSTAMP:20260424T224946
CREATED:20241115T194219Z
LAST-MODIFIED:20241227T215508Z
UID:30955-1758873600-1759424400@fcmhonduras.org
SUMMARY:Lagrange Team
DESCRIPTION:Team Leader:\nCassy Zuver \nCost:\n$875
URL:https://fcmhonduras.org/event/lagrange-team/
END:VEVENT
BEGIN:VEVENT
DTSTART;TZID=America/Chicago:20251003T080000
DTEND;TZID=America/Chicago:20251009T170000
DTSTAMP:20260424T224946
CREATED:20250203T233356Z
LAST-MODIFIED:20250815T160601Z
UID:31129-1759478400-1760029200@fcmhonduras.org
SUMMARY:Alpha Baptist Association - Tennessee
DESCRIPTION:Team Leader: Pastor Bill Edge \nCost: $875
URL:https://fcmhonduras.org/event/linden-tennessee-team/
END:VEVENT
BEGIN:VEVENT
DTSTART;TZID=America/Chicago:20251016T080000
DTEND;TZID=America/Chicago:20251022T170000
DTSTAMP:20260424T224946
CREATED:20250210T184300Z
LAST-MODIFIED:20250210T184300Z
UID:31240-1760601600-1761152400@fcmhonduras.org
SUMMARY:Mississippi Team
DESCRIPTION:Leader: Wayne Hudson \nTeam Fee: $875
URL:https://fcmhonduras.org/event/mississippi-team-2/
END:VEVENT
BEGIN:VEVENT
DTSTART;VALUE=DATE:20251107
DTEND;VALUE=DATE:20251113
DTSTAMP:20260424T224946
CREATED:20240402T205736Z
LAST-MODIFIED:20250717T125544Z
UID:30184-1762473600-1762991999@fcmhonduras.org
SUMMARY:Womens Team
DESCRIPTION:Team Leader\nMartha Dazzio and Karen McPheeters \nCost\n$775.00
URL:https://fcmhonduras.org/event/womens-team/
END:VEVENT
BEGIN:VEVENT
DTSTART;TZID=America/Chicago:20251214T080000
DTEND;TZID=America/Chicago:20251218T170000
DTSTAMP:20260424T224946
CREATED:20241115T194322Z
LAST-MODIFIED:20251119T162915Z
UID:30957-1765699200-1766077200@fcmhonduras.org
SUMMARY:Nowell Christmas Team
DESCRIPTION:Team Leader:\nStan Nowell \nCost:\n$675
URL:https://fcmhonduras.org/event/nowell-christmas-team/
END:VEVENT
BEGIN:VEVENT
DTSTART;TZID=America/Chicago:20260105T080000
DTEND;TZID=America/Chicago:20260110T170000
DTSTAMP:20260424T224946
CREATED:20250603T174930Z
LAST-MODIFIED:20251003T200430Z
UID:31281-1767600000-1768064400@fcmhonduras.org
SUMMARY:2026 Ole Miss RUF Team
DESCRIPTION:Team Leader: Ashley Senn \nCost: $1.950
URL:https://fcmhonduras.org/event/ole-miss-ruf-team/
END:VEVENT
BEGIN:VEVENT
DTSTART;TZID=America/Chicago:20260117T080000
DTEND;TZID=America/Chicago:20260122T170000
DTSTAMP:20260424T224946
CREATED:20251203T204337Z
LAST-MODIFIED:20251203T205413Z
UID:31336-1768636800-1769101200@fcmhonduras.org
SUMMARY:2026 Briarwood Team
DESCRIPTION:Team Leader: Madison Banegas & Don Murphy \nCost: $875
URL:https://fcmhonduras.org/event/2026-briarwood/
END:VEVENT
BEGIN:VEVENT
DTSTART;TZID=America/Chicago:20260126T080000
DTEND;TZID=America/Chicago:20260130T170000
DTSTAMP:20260424T224946
CREATED:20251203T204736Z
LAST-MODIFIED:20251203T205310Z
UID:31341-1769414400-1769792400@fcmhonduras.org
SUMMARY:2026 Franklin TN Construction Team
DESCRIPTION:Team Leader: Pat Ragan \nCost: $775
URL:https://fcmhonduras.org/event/2026-franklin-tn-construction/
END:VEVENT
BEGIN:VEVENT
DTSTART;TZID=America/Chicago:20260130T080000
DTEND;TZID=America/Chicago:20260205T170000
DTSTAMP:20260424T224946
CREATED:20251203T205018Z
LAST-MODIFIED:20251203T205251Z
UID:31346-1769760000-1770310800@fcmhonduras.org
SUMMARY:2026 Redemption Shoals Team #1
DESCRIPTION:Team Leader: Jennifer Wood \nCost: $775
URL:https://fcmhonduras.org/event/2026-redemption-shoals-1/
END:VEVENT
BEGIN:VEVENT
DTSTART;TZID=America/Chicago:20260209T080000
DTEND;TZID=America/Chicago:20260213T170000
DTSTAMP:20260424T224946
CREATED:20251203T205142Z
LAST-MODIFIED:20251203T205230Z
UID:31350-1770624000-1771002000@fcmhonduras.org
SUMMARY:2026 Mt. Juliet Team
DESCRIPTION:Team Leader: TBD \nCost: $775
URL:https://fcmhonduras.org/event/2026-mt-juliet/
END:VEVENT
BEGIN:VEVENT
DTSTART;TZID=America/Chicago:20260216T080000
DTEND;TZID=America/Chicago:20260220T170000
DTSTAMP:20260424T224946
CREATED:20251203T205537Z
LAST-MODIFIED:20251203T205537Z
UID:31358-1771228800-1771606800@fcmhonduras.org
SUMMARY:2026 Mississippi Team
DESCRIPTION:Team Leader: Wayne Hudson \nCost: $775
URL:https://fcmhonduras.org/event/2026-mississippi-team/
END:VEVENT
BEGIN:VEVENT
DTSTART;TZID=America/Chicago:20260223T080000
DTEND;TZID=America/Chicago:20260227T170000
DTSTAMP:20260424T224946
CREATED:20251203T205713Z
LAST-MODIFIED:20251203T205714Z
UID:31362-1771833600-1772211600@fcmhonduras.org
SUMMARY:2026 Roberson Construction Team
DESCRIPTION:Team Leader: Chad Roberson \nCost: $775
URL:https://fcmhonduras.org/event/2026-roberson-construction-team/
END:VEVENT
BEGIN:VEVENT
DTSTART;TZID=America/Chicago:20260307T080000
DTEND;TZID=America/Chicago:20260312T170000
DTSTAMP:20260424T224946
CREATED:20250717T125934Z
LAST-MODIFIED:20251003T200302Z
UID:31302-1772870400-1773334800@fcmhonduras.org
SUMMARY:2026 AU College Team
DESCRIPTION:Team Leader: Lisa Lovell \nCost: $1\,895
URL:https://fcmhonduras.org/event/2026-au-college-team/
END:VEVENT
BEGIN:VEVENT
DTSTART;TZID=America/Chicago:20260314T080000
DTEND;TZID=America/Chicago:20260319T170000
DTSTAMP:20260424T224946
CREATED:20250717T130138Z
LAST-MODIFIED:20251003T200333Z
UID:31306-1773475200-1773939600@fcmhonduras.org
SUMMARY:2026 Alabama College Team
DESCRIPTION:Team Leader: Martha Dazzio \nCost: $1\,650
URL:https://fcmhonduras.org/event/2026-alabama-college-team/
END:VEVENT
BEGIN:VEVENT
DTSTART;TZID=America/Chicago:20260321T080000
DTEND;TZID=America/Chicago:20260326T170000
DTSTAMP:20260424T224946
CREATED:20250603T214335Z
LAST-MODIFIED:20251003T200210Z
UID:31285-1774080000-1774544400@fcmhonduras.org
SUMMARY:2026 Covenant Presbyterian Spring Break Team
DESCRIPTION:Team Leader: Ashley Senn \nCost: $1925
URL:https://fcmhonduras.org/event/covenant-presbyterian-spring-break-team/
END:VEVENT
BEGIN:VEVENT
DTSTART;TZID=America/Chicago:20260522T080000
DTEND;TZID=America/Chicago:20260528T170000
DTSTAMP:20260424T224946
CREATED:20251203T205907Z
LAST-MODIFIED:20251203T205907Z
UID:31366-1779436800-1779987600@fcmhonduras.org
SUMMARY:2026 Morris Hill Team
DESCRIPTION:Team Leader: Chase Stooksbury \nCost: $875
URL:https://fcmhonduras.org/event/2026-morris-hill-team/
END:VEVENT
BEGIN:VEVENT
DTSTART;TZID=America/Chicago:20260605T080000
DTEND;TZID=America/Chicago:20260611T170000
DTSTAMP:20260424T224946
CREATED:20251203T210022Z
LAST-MODIFIED:20251203T210022Z
UID:31371-1780646400-1781197200@fcmhonduras.org
SUMMARY:2026 Silverdale Team #1
DESCRIPTION:Team Leader: Randy Thomas \nCost: $875
URL:https://fcmhonduras.org/event/2026-silverdale-team-1/
END:VEVENT
BEGIN:VEVENT
DTSTART;TZID=America/Chicago:20260612T080000
DTEND;TZID=America/Chicago:20260618T170000
DTSTAMP:20260424T224946
CREATED:20251203T210124Z
LAST-MODIFIED:20251203T210124Z
UID:31375-1781251200-1781802000@fcmhonduras.org
SUMMARY:2026 Silverdale Team #2
DESCRIPTION:Team Leader: Randy Thomas \nCost: $875
URL:https://fcmhonduras.org/event/2026-silverdale-team-2/
END:VEVENT
BEGIN:VEVENT
DTSTART;TZID=America/Chicago:20260619T080000
DTEND;TZID=America/Chicago:20260625T170000
DTSTAMP:20260424T224946
CREATED:20251203T210253Z
LAST-MODIFIED:20251203T210253Z
UID:31379-1781856000-1782406800@fcmhonduras.org
SUMMARY:2026 West Huntsville Team
DESCRIPTION:Team Leader: Michael Cranston \nCost: $875
URL:https://fcmhonduras.org/event/2026-west-huntsville-team/
END:VEVENT
BEGIN:VEVENT
DTSTART;TZID=America/Chicago:20260626T080000
DTEND;TZID=America/Chicago:20260702T170000
DTSTAMP:20260424T224946
CREATED:20251203T210422Z
LAST-MODIFIED:20251203T210422Z
UID:31385-1782460800-1783011600@fcmhonduras.org
SUMMARY:2026 Stubbs Team
DESCRIPTION:Team Leader: Chad Stubbs \nCost: $875
URL:https://fcmhonduras.org/event/2026-stubbs-team/
END:VEVENT
BEGIN:VEVENT
DTSTART;TZID=America/Chicago:20260703T080000
DTEND;TZID=America/Chicago:20260709T170000
DTSTAMP:20260424T224946
CREATED:20251203T210531Z
LAST-MODIFIED:20251203T210531Z
UID:31389-1783065600-1783616400@fcmhonduras.org
SUMMARY:2026 Pickens Team
DESCRIPTION:Team Leader: Shawn McDaniel \nCost: $875
URL:https://fcmhonduras.org/event/2026-pickens-team/
END:VEVENT
BEGIN:VEVENT
DTSTART;TZID=America/Chicago:20260710T080000
DTEND;TZID=America/Chicago:20260716T170000
DTSTAMP:20260424T224946
CREATED:20251203T210646Z
LAST-MODIFIED:20251203T210647Z
UID:31393-1783670400-1784221200@fcmhonduras.org
SUMMARY:2026 New Haven Baptist Church Team
DESCRIPTION:Team Leader: James Roberts \nCost: $875
URL:https://fcmhonduras.org/event/2026-new-haven-baptist-church-team/
END:VEVENT
BEGIN:VEVENT
DTSTART;TZID=America/Chicago:20260717T080000
DTEND;TZID=America/Chicago:20260723T170000
DTSTAMP:20260424T224946
CREATED:20251203T210750Z
LAST-MODIFIED:20251203T210750Z
UID:31397-1784275200-1784826000@fcmhonduras.org
SUMMARY:2026 Mt. Zion Team
DESCRIPTION:Team Leader: Ryan Stewart \nCost: $875
URL:https://fcmhonduras.org/event/2026-mt-zion-team/
END:VEVENT
BEGIN:VEVENT
DTSTART;TZID=America/Chicago:20260724T080000
DTEND;TZID=America/Chicago:20260730T170000
DTSTAMP:20260424T224946
CREATED:20251203T210912Z
LAST-MODIFIED:20251203T210912Z
UID:31401-1784880000-1785430800@fcmhonduras.org
SUMMARY:2026 Redemption Shoals Team #2
DESCRIPTION:Team Leader: Jennifer Wood \nCost: $875
URL:https://fcmhonduras.org/event/2026-redemption-shoals-team-2/
END:VEVENT
BEGIN:VEVENT
DTSTART;TZID=America/Chicago:20260731T080000
DTEND;TZID=America/Chicago:20260806T170000
DTSTAMP:20260424T224946
CREATED:20260408T173144Z
LAST-MODIFIED:20260408T173144Z
UID:31470-1785484800-1786035600@fcmhonduras.org
SUMMARY:2026 BMSS Team
DESCRIPTION:Team Leader:  Melody Young \nCost: 875
URL:https://fcmhonduras.org/event/2026-bmss-team/
END:VEVENT
BEGIN:VEVENT
DTSTART;TZID=America/Chicago:20260812T080000
DTEND;TZID=America/Chicago:20260816T170000
DTSTAMP:20260424T224946
CREATED:20260323T172853Z
LAST-MODIFIED:20260323T172853Z
UID:31419-1786521600-1786899600@fcmhonduras.org
SUMMARY:2026 Men's Team
DESCRIPTION:Team Leader:  Tommy Dazzio & Dan Lovell \nCost: $775
URL:https://fcmhonduras.org/event/2026-mens-team/
END:VEVENT
BEGIN:VEVENT
DTSTART;TZID=America/Chicago:20260821T080000
DTEND;TZID=America/Chicago:20260826T170000
DTSTAMP:20260424T224946
CREATED:20260323T174238Z
LAST-MODIFIED:20260408T153700Z
UID:31446-1787299200-1787763600@fcmhonduras.org
SUMMARY:2026 Women's Team
DESCRIPTION:Team Leader:  Martha Dazzio & Karen McPheeters \nCost: $775
URL:https://fcmhonduras.org/event/2026-womens-team/
END:VEVENT
BEGIN:VEVENT
DTSTART;TZID=America/Chicago:20260907T080000
DTEND;TZID=America/Chicago:20260911T170000
DTSTAMP:20260424T224946
CREATED:20260323T173212Z
LAST-MODIFIED:20260323T173212Z
UID:31426-1788768000-1789146000@fcmhonduras.org
SUMMARY:2026 Ms. Construction Team #2
DESCRIPTION:Team Leader:  Mike Drake \nCost: $775
URL:https://fcmhonduras.org/event/2026-ms-construction-team-2/
END:VEVENT
BEGIN:VEVENT
DTSTART;TZID=America/Chicago:20260918T080000
DTEND;TZID=America/Chicago:20260922T170000
DTSTAMP:20260424T224946
CREATED:20260323T173445Z
LAST-MODIFIED:20260323T173823Z
UID:31431-1789718400-1790096400@fcmhonduras.org
SUMMARY:2026 Young Professionals Team
DESCRIPTION:Team Leader:  Lisa Lovell \nCost: $1\,475 (includes flight). Register through FCM Managed Missions
URL:https://fcmhonduras.org/event/2026-young-professionals-team/
END:VEVENT
BEGIN:VEVENT
DTSTART;TZID=America/Chicago:20260925T080000
DTEND;TZID=America/Chicago:20261001T170000
DTSTAMP:20260424T224946
CREATED:20260323T181029Z
LAST-MODIFIED:20260323T181044Z
UID:31456-1790323200-1790874000@fcmhonduras.org
SUMMARY:2026 Hickory Grove BC Team
DESCRIPTION:Team Leader:  Randy Scribner \nCost: 875
URL:https://fcmhonduras.org/event/2026-hickory-grove-bc-team/
END:VEVENT
END:VCALENDAR