BEGIN:VCALENDAR
VERSION:2.0
PRODID:-//Forgotten Children Ministries - ECPv6.15.20//NONSGML v1.0//EN
CALSCALE:GREGORIAN
METHOD:PUBLISH
X-WR-CALNAME:Forgotten Children Ministries
X-ORIGINAL-URL:https://fcmhonduras.org
X-WR-CALDESC:Events for Forgotten Children Ministries
REFRESH-INTERVAL;VALUE=DURATION:PT1H
X-Robots-Tag:noindex
X-PUBLISHED-TTL:PT1H
BEGIN:VTIMEZONE
TZID:America/Chicago
BEGIN:DAYLIGHT
TZOFFSETFROM:-0600
TZOFFSETTO:-0500
TZNAME:CDT
DTSTART:20230312T080000
END:DAYLIGHT
BEGIN:STANDARD
TZOFFSETFROM:-0500
TZOFFSETTO:-0600
TZNAME:CST
DTSTART:20231105T070000
END:STANDARD
BEGIN:DAYLIGHT
TZOFFSETFROM:-0600
TZOFFSETTO:-0500
TZNAME:CDT
DTSTART:20240310T080000
END:DAYLIGHT
BEGIN:STANDARD
TZOFFSETFROM:-0500
TZOFFSETTO:-0600
TZNAME:CST
DTSTART:20241103T070000
END:STANDARD
BEGIN:DAYLIGHT
TZOFFSETFROM:-0600
TZOFFSETTO:-0500
TZNAME:CDT
DTSTART:20250309T080000
END:DAYLIGHT
BEGIN:STANDARD
TZOFFSETFROM:-0500
TZOFFSETTO:-0600
TZNAME:CST
DTSTART:20251102T070000
END:STANDARD
BEGIN:DAYLIGHT
TZOFFSETFROM:-0600
TZOFFSETTO:-0500
TZNAME:CDT
DTSTART:20260308T080000
END:DAYLIGHT
BEGIN:STANDARD
TZOFFSETFROM:-0500
TZOFFSETTO:-0600
TZNAME:CST
DTSTART:20261101T070000
END:STANDARD
END:VTIMEZONE
BEGIN:VEVENT
DTSTART;VALUE=DATE:20250321
DTEND;VALUE=DATE:20250327
DTSTAMP:20260424T180952
CREATED:20240402T210621Z
LAST-MODIFIED:20250125T213406Z
UID:30191-1742515200-1743033599@fcmhonduras.org
SUMMARY:Covenant Presbyterian Team
DESCRIPTION:Team Leader:\nAshley Senn \nCost:\n$775.00
URL:https://fcmhonduras.org/event/spring-break-team-2-covenant-presbyterian/
END:VEVENT
BEGIN:VEVENT
DTSTART;VALUE=DATE:20250308
DTEND;VALUE=DATE:20250314
DTSTAMP:20260424T180952
CREATED:20240402T210300Z
LAST-MODIFIED:20241115T192843Z
UID:30188-1741392000-1741910399@fcmhonduras.org
SUMMARY:Spring Break - College Team
DESCRIPTION:Team Leader:\nLisa Lovell \nCost:\n$775.00
URL:https://fcmhonduras.org/event/spring-break-college-team-1-lovell/
END:VEVENT
BEGIN:VEVENT
DTSTART;TZID=America/Chicago:20250226T080000
DTEND;TZID=America/Chicago:20250304T170000
DTSTAMP:20260424T180952
CREATED:20241115T191931Z
LAST-MODIFIED:20241227T215859Z
UID:30919-1740556800-1741107600@fcmhonduras.org
SUMMARY:Coopers Chapel Team
DESCRIPTION:Team Leader:\nDavid Moore \nCost:\n$875
URL:https://fcmhonduras.org/event/coopers-chapel-team/
END:VEVENT
BEGIN:VEVENT
DTSTART;TZID=America/Chicago:20250224T080000
DTEND;TZID=America/Chicago:20250228T170000
DTSTAMP:20260424T180952
CREATED:20241115T193341Z
LAST-MODIFIED:20241227T215925Z
UID:30941-1740384000-1740762000@fcmhonduras.org
SUMMARY:Construction Team #3
DESCRIPTION:Team Leader:\nChad Roberson \nCost:\n$675
URL:https://fcmhonduras.org/event/construction-team-3/
END:VEVENT
BEGIN:VEVENT
DTSTART;TZID=America/Chicago:20250217T080000
DTEND;TZID=America/Chicago:20250221T170000
DTSTAMP:20260424T180952
CREATED:20241115T193230Z
LAST-MODIFIED:20241227T215942Z
UID:30939-1739779200-1740157200@fcmhonduras.org
SUMMARY:Construction Team #2
DESCRIPTION:Team Leader:\nWayne Hudson \nCost:\n$675
URL:https://fcmhonduras.org/event/construction-team-2/
END:VEVENT
BEGIN:VEVENT
DTSTART;TZID=America/Chicago:20250203T080000
DTEND;TZID=America/Chicago:20250207T170000
DTSTAMP:20260424T180952
CREATED:20241115T192515Z
LAST-MODIFIED:20241227T215959Z
UID:30927-1738569600-1738947600@fcmhonduras.org
SUMMARY:Construction Team #1
DESCRIPTION:Team Leader:\nTBA \nCost:\n$675
URL:https://fcmhonduras.org/event/construction-team-1/
END:VEVENT
BEGIN:VEVENT
DTSTART;TZID=America/Chicago:20250125T080000
DTEND;TZID=America/Chicago:20250130T170000
DTSTAMP:20260424T180952
CREATED:20241115T191425Z
LAST-MODIFIED:20241227T220053Z
UID:30917-1737792000-1738256400@fcmhonduras.org
SUMMARY:Redemption Shoals Team
DESCRIPTION:Team Leader:\nJennifer Wood \nCost:\n$775
URL:https://fcmhonduras.org/event/highland-park-team/
END:VEVENT
BEGIN:VEVENT
DTSTART;VALUE=DATE:20250104
DTEND;VALUE=DATE:20250110
DTSTAMP:20260424T180952
CREATED:20240402T210128Z
LAST-MODIFIED:20241115T193058Z
UID:30186-1735948800-1736467199@fcmhonduras.org
SUMMARY:Winter College Trip - Ole Miss RUF
DESCRIPTION:Team Leader:\nAshley Senn \nCost:\n$775.00
URL:https://fcmhonduras.org/event/college-trip-1-ole-miss-ruf/
END:VEVENT
BEGIN:VEVENT
DTSTART;TZID=America/Chicago:20241227T080000
DTEND;TZID=America/Chicago:20241231T170000
DTSTAMP:20260424T180952
CREATED:20241115T204954Z
LAST-MODIFIED:20241115T204954Z
UID:30960-1735286400-1735664400@fcmhonduras.org
SUMMARY:Madison MS Team
DESCRIPTION:Team Leader:\nRobert Brister \nCost:\n$675
URL:https://fcmhonduras.org/event/madison-ms-team/
END:VEVENT
BEGIN:VEVENT
DTSTART;TZID=America/Chicago:20241208T080000
DTEND;TZID=America/Chicago:20241212T170000
DTSTAMP:20260424T180952
CREATED:20241115T205117Z
LAST-MODIFIED:20241115T205553Z
UID:30962-1733644800-1734022800@fcmhonduras.org
SUMMARY:Nowell Christmas Team
DESCRIPTION:Team Leader:\nStan Nowell \nCost:\n$775
URL:https://fcmhonduras.org/event/nowell-christmas-team-2/
END:VEVENT
BEGIN:VEVENT
DTSTART;VALUE=DATE:20241017
DTEND;VALUE=DATE:20241024
DTSTAMP:20260424T180952
CREATED:20240205T001509Z
LAST-MODIFIED:20240205T002137Z
UID:30120-1729123200-1729727999@fcmhonduras.org
SUMMARY:Mississippi Revival Team
DESCRIPTION:Team Leader\nWayne and Tina Hudson \nCost\n$875.00
URL:https://fcmhonduras.org/event/mississippi-team/
END:VEVENT
BEGIN:VEVENT
DTSTART;VALUE=DATE:20241011
DTEND;VALUE=DATE:20241018
DTSTAMP:20260424T180952
CREATED:20240205T001412Z
LAST-MODIFIED:20240205T001544Z
UID:30118-1728604800-1729209599@fcmhonduras.org
SUMMARY:Linden Church & River City Church Teams
DESCRIPTION:Team Leaders\nBrian Jackson and Bill Edge \nCost\n$875.00
URL:https://fcmhonduras.org/event/linden-river-city-churches-teams/
END:VEVENT
BEGIN:VEVENT
DTSTART;VALUE=DATE:20241005
DTEND;VALUE=DATE:20241011
DTSTAMP:20260424T180952
CREATED:20240402T205539Z
LAST-MODIFIED:20240402T211302Z
UID:30182-1728086400-1728604799@fcmhonduras.org
SUMMARY:Medical Team
DESCRIPTION:Team Leader\nAshley Senn / Brent Barranco \nCost\n$775.00
URL:https://fcmhonduras.org/event/medical-trip-barranco-senn/
END:VEVENT
BEGIN:VEVENT
DTSTART;VALUE=DATE:20240911
DTEND;VALUE=DATE:20240916
DTSTAMP:20260424T180952
CREATED:20240402T205207Z
LAST-MODIFIED:20250114T200425Z
UID:30180-1726012800-1726444799@fcmhonduras.org
SUMMARY:Young Professionals Trip
DESCRIPTION:Team Leader\nLisa Lovell \nCost\n$775.00
URL:https://fcmhonduras.org/event/young-professionals-trip/
END:VEVENT
BEGIN:VEVENT
DTSTART;VALUE=DATE:20240726
DTEND;VALUE=DATE:20240802
DTSTAMP:20260424T180952
CREATED:20240205T001304Z
LAST-MODIFIED:20240402T204441Z
UID:30116-1721952000-1722556799@fcmhonduras.org
SUMMARY:Black Out Week - No Teams
DESCRIPTION:
URL:https://fcmhonduras.org/event/stone-bridge-church-team/
END:VEVENT
BEGIN:VEVENT
DTSTART;VALUE=DATE:20240719
DTEND;VALUE=DATE:20240726
DTSTAMP:20260424T180952
CREATED:20240205T001208Z
LAST-MODIFIED:20240205T001208Z
UID:30114-1721347200-1721951999@fcmhonduras.org
SUMMARY:Faith Baptist Church Team
DESCRIPTION:Team Leader\nDaniel Fortenberry \nCost\n$875.00
URL:https://fcmhonduras.org/event/faith-baptist-church-team/
END:VEVENT
BEGIN:VEVENT
DTSTART;VALUE=DATE:20240705
DTEND;VALUE=DATE:20240712
DTSTAMP:20260424T180952
CREATED:20240205T001031Z
LAST-MODIFIED:20240205T001031Z
UID:30110-1720137600-1720742399@fcmhonduras.org
SUMMARY:Pickens Team
DESCRIPTION:Team Leader\nShawn McDaniel \nCost\n$875.00
URL:https://fcmhonduras.org/event/pickens-team/
END:VEVENT
BEGIN:VEVENT
DTSTART;VALUE=DATE:20240628
DTEND;VALUE=DATE:20240705
DTSTAMP:20260424T180952
CREATED:20240205T000947Z
LAST-MODIFIED:20240205T000947Z
UID:30108-1719532800-1720137599@fcmhonduras.org
SUMMARY:Stubbs Summer Team
DESCRIPTION:Team Leader\nChad Stubbs \nCost\n$875.00
URL:https://fcmhonduras.org/event/stubbs-summer-team/
END:VEVENT
BEGIN:VEVENT
DTSTART;VALUE=DATE:20240621
DTEND;VALUE=DATE:20240628
DTSTAMP:20260424T180952
CREATED:20240205T000902Z
LAST-MODIFIED:20240205T000902Z
UID:30106-1718928000-1719532799@fcmhonduras.org
SUMMARY:West Huntsville Team
DESCRIPTION:Team Leader\nMichael Cranston \nCost\n$875.00
URL:https://fcmhonduras.org/event/west-huntsville-team/
END:VEVENT
BEGIN:VEVENT
DTSTART;VALUE=DATE:20240614
DTEND;VALUE=DATE:20240621
DTSTAMP:20260424T180952
CREATED:20240205T000808Z
LAST-MODIFIED:20240205T002356Z
UID:30104-1718323200-1718927999@fcmhonduras.org
SUMMARY:Morris Hill Team
DESCRIPTION:Team Leader\nLori Womack \nCost\n$875.00
URL:https://fcmhonduras.org/event/morris-hill-team/
END:VEVENT
BEGIN:VEVENT
DTSTART;VALUE=DATE:20240607
DTEND;VALUE=DATE:20240614
DTSTAMP:20260424T180952
CREATED:20240205T000710Z
LAST-MODIFIED:20240205T001710Z
UID:30102-1717718400-1718323199@fcmhonduras.org
SUMMARY:Silverdale Team
DESCRIPTION:Team Leader\nRandy Thomas \nCost\n$875.00
URL:https://fcmhonduras.org/event/silverdale-team/
END:VEVENT
BEGIN:VEVENT
DTSTART;VALUE=DATE:20240408
DTEND;VALUE=DATE:20240413
DTSTAMP:20260424T180952
CREATED:20240402T204940Z
LAST-MODIFIED:20240402T204948Z
UID:30177-1712534400-1712966399@fcmhonduras.org
SUMMARY:Construction Team - Stan Nowell
DESCRIPTION:Team Leader\nStan Nowell \nCost\n$675.00
URL:https://fcmhonduras.org/event/construction-tema-stan-nowell/
END:VEVENT
BEGIN:VEVENT
DTSTART;VALUE=DATE:20240322
DTEND;VALUE=DATE:20240329
DTSTAMP:20260424T180952
CREATED:20240205T000537Z
LAST-MODIFIED:20240205T025210Z
UID:30100-1711065600-1711670399@fcmhonduras.org
SUMMARY:Spring Break - Highland Park Church Team
DESCRIPTION:Team Leader\nJennifer Wood \nCost\n$850.00
URL:https://fcmhonduras.org/event/highland-park-2/
END:VEVENT
BEGIN:VEVENT
DTSTART;VALUE=DATE:20240315
DTEND;VALUE=DATE:20240320
DTSTAMP:20260424T180952
CREATED:20240205T000437Z
LAST-MODIFIED:20240205T002106Z
UID:30098-1710460800-1710892799@fcmhonduras.org
SUMMARY:Black Out Week - Hudsons
DESCRIPTION:Wayne and Tina Hudson
URL:https://fcmhonduras.org/event/revival-team/
END:VEVENT
BEGIN:VEVENT
DTSTART;TZID=America/Chicago:20240309T080000
DTEND;TZID=America/Chicago:20240314T170000
DTSTAMP:20260424T180952
CREATED:20240204T233622Z
LAST-MODIFIED:20240205T025246Z
UID:30090-1709971200-1710435600@fcmhonduras.org
SUMMARY:Spring Break - College Trip #2 - Ole Miss and Alabama
DESCRIPTION:Team Leaders\nAshley Senn and Ingram Link \nCost\n$750.00
URL:https://fcmhonduras.org/event/spring-break-college-trip-2-ole-miss-and-alabama/
END:VEVENT
BEGIN:VEVENT
DTSTART;VALUE=DATE:20240302
DTEND;VALUE=DATE:20240308
DTSTAMP:20260424T180952
CREATED:20240204T233500Z
LAST-MODIFIED:20240205T025303Z
UID:30088-1709337600-1709855999@fcmhonduras.org
SUMMARY:Spring Break - College Team #1 - Auburn
DESCRIPTION:Team Leader\nLisa Lovell \nCost\n$750.00
URL:https://fcmhonduras.org/event/spring-break-college-team-1/
END:VEVENT
BEGIN:VEVENT
DTSTART;VALUE=DATE:20240226
DTEND;VALUE=DATE:20240302
DTSTAMP:20260424T180952
CREATED:20240204T233042Z
LAST-MODIFIED:20240205T001804Z
UID:30079-1708905600-1709337599@fcmhonduras.org
SUMMARY:Men's Construction Team #2
DESCRIPTION:Team Leaders\nStan Nowell and Chad Roberson \nCost\n$675.00
URL:https://fcmhonduras.org/event/mens-construction-team-2/
END:VEVENT
BEGIN:VEVENT
DTSTART;VALUE=DATE:20240219
DTEND;VALUE=DATE:20240224
DTSTAMP:20260424T180952
CREATED:20240204T232339Z
LAST-MODIFIED:20240205T001745Z
UID:30071-1708300800-1708732799@fcmhonduras.org
SUMMARY:Men's Construction Team #1
DESCRIPTION:Team Leaders\nMike Drake and Chad Roberson \nCost\n$675.00
URL:https://fcmhonduras.org/event/mens-construction-team-1/
END:VEVENT
BEGIN:VEVENT
DTSTART;VALUE=DATE:20240119
DTEND;VALUE=DATE:20240126
DTSTAMP:20260424T180952
CREATED:20240202T155734Z
LAST-MODIFIED:20240204T233352Z
UID:30022-1705622400-1706227199@fcmhonduras.org
SUMMARY:Highland Park Team
DESCRIPTION:Team Leader\nJennifer Wood \nCost\n$835.00
URL:https://fcmhonduras.org/event/highland-park/
LOCATION:Forgotten Children Ministries
END:VEVENT
END:VCALENDAR