BEGIN:VCALENDAR
VERSION:2.0
PRODID:-//Forgotten Children Ministries - ECPv6.15.20//NONSGML v1.0//EN
CALSCALE:GREGORIAN
METHOD:PUBLISH
X-WR-CALNAME:Forgotten Children Ministries
X-ORIGINAL-URL:https://fcmhonduras.org
X-WR-CALDESC:Events for Forgotten Children Ministries
REFRESH-INTERVAL;VALUE=DURATION:PT1H
X-Robots-Tag:noindex
X-PUBLISHED-TTL:PT1H
BEGIN:VTIMEZONE
TZID:America/Chicago
BEGIN:DAYLIGHT
TZOFFSETFROM:-0600
TZOFFSETTO:-0500
TZNAME:CDT
DTSTART:20250309T080000
END:DAYLIGHT
BEGIN:STANDARD
TZOFFSETFROM:-0500
TZOFFSETTO:-0600
TZNAME:CST
DTSTART:20251102T070000
END:STANDARD
BEGIN:DAYLIGHT
TZOFFSETFROM:-0600
TZOFFSETTO:-0500
TZNAME:CDT
DTSTART:20260308T080000
END:DAYLIGHT
BEGIN:STANDARD
TZOFFSETFROM:-0500
TZOFFSETTO:-0600
TZNAME:CST
DTSTART:20261101T070000
END:STANDARD
BEGIN:DAYLIGHT
TZOFFSETFROM:-0600
TZOFFSETTO:-0500
TZNAME:CDT
DTSTART:20270314T080000
END:DAYLIGHT
BEGIN:STANDARD
TZOFFSETFROM:-0500
TZOFFSETTO:-0600
TZNAME:CST
DTSTART:20271107T070000
END:STANDARD
END:VTIMEZONE
BEGIN:VEVENT
DTSTART;TZID=America/Chicago:20260307T080000
DTEND;TZID=America/Chicago:20260312T170000
DTSTAMP:20260424T133008
CREATED:20250717T125934Z
LAST-MODIFIED:20251003T200302Z
UID:31302-1772870400-1773334800@fcmhonduras.org
SUMMARY:2026 AU College Team
DESCRIPTION:Team Leader: Lisa Lovell \nCost: $1\,895
URL:https://fcmhonduras.org/event/2026-au-college-team/
END:VEVENT
BEGIN:VEVENT
DTSTART;TZID=America/Chicago:20260314T080000
DTEND;TZID=America/Chicago:20260319T170000
DTSTAMP:20260424T133008
CREATED:20250717T130138Z
LAST-MODIFIED:20251003T200333Z
UID:31306-1773475200-1773939600@fcmhonduras.org
SUMMARY:2026 Alabama College Team
DESCRIPTION:Team Leader: Martha Dazzio \nCost: $1\,650
URL:https://fcmhonduras.org/event/2026-alabama-college-team/
END:VEVENT
BEGIN:VEVENT
DTSTART;TZID=America/Chicago:20260321T080000
DTEND;TZID=America/Chicago:20260326T170000
DTSTAMP:20260424T133008
CREATED:20250603T214335Z
LAST-MODIFIED:20251003T200210Z
UID:31285-1774080000-1774544400@fcmhonduras.org
SUMMARY:2026 Covenant Presbyterian Spring Break Team
DESCRIPTION:Team Leader: Ashley Senn \nCost: $1925
URL:https://fcmhonduras.org/event/covenant-presbyterian-spring-break-team/
END:VEVENT
END:VCALENDAR