BEGIN:VCALENDAR
VERSION:2.0
PRODID:-//Forgotten Children Ministries - ECPv6.15.20//NONSGML v1.0//EN
CALSCALE:GREGORIAN
METHOD:PUBLISH
X-ORIGINAL-URL:https://fcmhonduras.org
X-WR-CALDESC:Events for Forgotten Children Ministries
REFRESH-INTERVAL;VALUE=DURATION:PT1H
X-Robots-Tag:noindex
X-PUBLISHED-TTL:PT1H
BEGIN:VTIMEZONE
TZID:America/Chicago
BEGIN:DAYLIGHT
TZOFFSETFROM:-0600
TZOFFSETTO:-0500
TZNAME:CDT
DTSTART:20250309T080000
END:DAYLIGHT
BEGIN:STANDARD
TZOFFSETFROM:-0500
TZOFFSETTO:-0600
TZNAME:CST
DTSTART:20251102T070000
END:STANDARD
BEGIN:DAYLIGHT
TZOFFSETFROM:-0600
TZOFFSETTO:-0500
TZNAME:CDT
DTSTART:20260308T080000
END:DAYLIGHT
BEGIN:STANDARD
TZOFFSETFROM:-0500
TZOFFSETTO:-0600
TZNAME:CST
DTSTART:20261101T070000
END:STANDARD
BEGIN:DAYLIGHT
TZOFFSETFROM:-0600
TZOFFSETTO:-0500
TZNAME:CDT
DTSTART:20270314T080000
END:DAYLIGHT
BEGIN:STANDARD
TZOFFSETFROM:-0500
TZOFFSETTO:-0600
TZNAME:CST
DTSTART:20271107T070000
END:STANDARD
END:VTIMEZONE
BEGIN:VEVENT
DTSTART;TZID=America/Chicago:20260731T080000
DTEND;TZID=America/Chicago:20260806T170000
DTSTAMP:20260424T180840
CREATED:20260408T173144Z
LAST-MODIFIED:20260408T173144Z
UID:31470-1785484800-1786035600@fcmhonduras.org
SUMMARY:2026 BMSS Team
DESCRIPTION:Team Leader:  Melody Young \nCost: 875
URL:https://fcmhonduras.org/event/2026-bmss-team/
END:VEVENT
BEGIN:VEVENT
DTSTART;TZID=America/Chicago:20260812T080000
DTEND;TZID=America/Chicago:20260816T170000
DTSTAMP:20260424T180840
CREATED:20260323T172853Z
LAST-MODIFIED:20260323T172853Z
UID:31419-1786521600-1786899600@fcmhonduras.org
SUMMARY:2026 Men's Team
DESCRIPTION:Team Leader:  Tommy Dazzio & Dan Lovell \nCost: $775
URL:https://fcmhonduras.org/event/2026-mens-team/
END:VEVENT
BEGIN:VEVENT
DTSTART;TZID=America/Chicago:20260821T080000
DTEND;TZID=America/Chicago:20260826T170000
DTSTAMP:20260424T180840
CREATED:20260323T174238Z
LAST-MODIFIED:20260408T153700Z
UID:31446-1787299200-1787763600@fcmhonduras.org
SUMMARY:2026 Women's Team
DESCRIPTION:Team Leader:  Martha Dazzio & Karen McPheeters \nCost: $775
URL:https://fcmhonduras.org/event/2026-womens-team/
END:VEVENT
END:VCALENDAR